BEGIN:VCALENDAR
VERSION:2.0
PRODID:-//wp-events-plugin.com//7.0.5//EN
BEGIN:VEVENT
UID:159@formation.evenement-beaute.com
DTSTART:20251208T090000Z
DTEND:20251208T180000Z
DTSTAMP:20250929T151035Z
URL:https://formation.evenement-beaute.com/events/expert-barbier-poitiers
SUMMARY:EXPERT BARBIER
DESCRIPTION:\n 1 Jour - 8 heures\n\n\n\nOBJECTIF\n\n\n\nPERFECTIONNER LE SE
 RVICE BARBIERAcquérir les compétences techniques pour sculpter une barbe
 Etre capable de:Etudier le modelage de la barbe en fonction de la morpholo
 gie du visage et de la coupeSavoir créer une moustache\, tailler les favo
 ris\, affiner les pattes en fonction de la coiffure et de la morphologie d
 u visage.Découvrir les produits pour l’entretien et le soin d’une bar
 be\, propriété et conseils d'utilisation.\n\n\n\n\n\n[contact-form-7 id=
 "14f4771" title="Formulaire pour formation Eventin"]\n
ATTACH;FMTTYPE=image/jpeg:https://formation.evenement-beaute.com/wp-conten
 t/uploads/2021/03/formation-EXPERT-BARBIER.jpg
CATEGORIES:Expert Barbier,HOMME BARBIER
LOCATION:CAPRICE SELECTION POITIERS\, 7 AVENUE CHATELLERAULT\, MIGNE AUXENC
 ES\, 86\, 86440\, NOUVELLE AQUITAINE\, France
GEO:46.624293;0.352988
X-APPLE-STRUCTURED-LOCATION;VALUE=URI;X-ADDRESS=7 AVENUE CHATELLERAULT\, MI
 GNE AUXENCES\, 86\, 86440\, NOUVELLE AQUITAINE\, France;X-APPLE-RADIUS=100
 ;X-TITLE=CAPRICE SELECTION POITIERS:geo:46.624293,0.352988
END:VEVENT
END:VCALENDAR